BEGIN:VCALENDAR
VERSION:2.0
PRODID:-//wp-events-plugin.com//7.2.3.1//EN
TZID:Europe/Berlin
X-WR-TIMEZONE:Europe/Berlin
BEGIN:VEVENT
UID:4@fireguardians.de
DTSTART;TZID=Europe/Berlin:20240522T120000
DTEND;TZID=Europe/Berlin:20240522T160000
DTSTAMP:20240418T122934Z
URL:http://fireguardians.de/events/werbeaufnahmen-koenig-pilsener/
SUMMARY:Werbeaufnahmen König Pilsener
DESCRIPTION:Werbeaufnahmen für einen Fernsehspot für König Pilsener\n\nW
 eitere Infos werden noch bekanntgegeben.\n\nIn Verkleidung.\n\nPlanung ab 
 Mittag
ATTACH;FMTTYPE=image/jpeg:http://fireguardians.de/wp-content/uploads/2024/
 04/DALL·E-2024-04-18-14.15.30-A-diverse-team-of-filmmakers-capturing-an-a
 dvertisement-featuring-the-Rhein-Fire-American-football-team-with-a-promin
 ent-sign-displaying-the-Rhein-F.webp
CATEGORIES:Sonstige Veranstaltungen
END:VEVENT
BEGIN:VTIMEZONE
TZID:Europe/Berlin
X-LIC-LOCATION:Europe/Berlin
BEGIN:DAYLIGHT
DTSTART:20240331T030000
TZOFFSETFROM:+0100
TZOFFSETTO:+0200
TZNAME:CEST
END:DAYLIGHT
END:VTIMEZONE
END:VCALENDAR