BEGIN:VCALENDAR
VERSION:2.0
PRODID:-//wp-events-plugin.com//7.2.3.1//EN
TZID:Europe/Berlin
X-WR-TIMEZONE:Europe/Berlin
BEGIN:VEVENT
UID:1@fireguardians.de
DTSTART;TZID=Europe/Berlin:20240511T180000
DTEND;TZID=Europe/Berlin:20240511T220000
DTSTAMP:20240428T005909Z
URL:http://fireguardians.de/events/stammtisch/
SUMMARY:FG Stammtisch
DESCRIPTION:Geplante Themen:\n\n 	Thema des Mottos der Verkleidungen für d
 as erste Spiel\n 	Stand der FG Homepage\n 	Test der Frikadellen von Irmche
 n :-)\n
ATTACH;FMTTYPE=image/jpeg:http://fireguardians.de/wp-content/uploads/2024/
 03/Buergerkrug.jpg
CATEGORIES:Stammtisch
LOCATION:#_LOCATIONNAME\, #_LOCATIONFULLLINE\, #_LOCATIONCOUNTRY
X-APPLE-STRUCTURED-LOCATION;VALUE=URI;X-ADDRESS=#_LOCATIONFULLLINE\, #_LOCA
 TIONCOUNTRY;X-APPLE-RADIUS=100;X-TITLE=#_LOCATIONNAME:geo:0,0
END:VEVENT
BEGIN:VTIMEZONE
TZID:Europe/Berlin
X-LIC-LOCATION:Europe/Berlin
BEGIN:DAYLIGHT
DTSTART:20240331T030000
TZOFFSETFROM:+0100
TZOFFSETTO:+0200
TZNAME:CEST
END:DAYLIGHT
END:VTIMEZONE
END:VCALENDAR