BEGIN:VCALENDAR
VERSION:2.0
PRODID:-//wp-events-plugin.com//7.2.3.1//EN
TZID:Europe/Berlin
X-WR-TIMEZONE:Europe/Berlin
BEGIN:VEVENT
UID:8@fireguardians.de
DTSTART;TZID=Europe/Berlin:20240517T183000
DTEND;TZID=Europe/Berlin:20240517T220000
DTSTAMP:20240428T003701Z
URL:http://fireguardians.de/events/saisonempfang-im-rathaus-duisburg/
SUMMARY:Saisonempfang im Rathaus Duisburg
DESCRIPTION:Empfang durch den Oberbürgermeister Sören Link im Duisburger 
 Rathaus\n\n18:30 Uhr Fan-Party\n19:30 Uhr Vorstellung der Mannschaft\n\n&n
 bsp\;
ATTACH;FMTTYPE=image/jpeg:http://fireguardians.de/wp-content/uploads/2024/
 04/DALL·E-2024-04-18-14.15.30-A-diverse-team-of-filmmakers-capturing-an-a
 dvertisement-featuring-the-Rhein-Fire-American-football-team-with-a-promin
 ent-sign-displaying-the-Rhein-F.webp
CATEGORIES:Sonstige Veranstaltungen
LOCATION:#_LOCATIONNAME\, #_LOCATIONFULLLINE\, #_LOCATIONCOUNTRY
X-APPLE-STRUCTURED-LOCATION;VALUE=URI;X-ADDRESS=#_LOCATIONFULLLINE\, #_LOCA
 TIONCOUNTRY;X-APPLE-RADIUS=100;X-TITLE=#_LOCATIONNAME:geo:0,0
END:VEVENT
BEGIN:VTIMEZONE
TZID:Europe/Berlin
X-LIC-LOCATION:Europe/Berlin
BEGIN:DAYLIGHT
DTSTART:20240331T030000
TZOFFSETFROM:+0100
TZOFFSETTO:+0200
TZNAME:CEST
END:DAYLIGHT
END:VTIMEZONE
END:VCALENDAR