BEGIN:VCALENDAR
VERSION:2.0
PRODID:-//wp-events-plugin.com//7.2.3.1//EN
TZID:Europe/Berlin
X-WR-TIMEZONE:Europe/Berlin
BEGIN:VEVENT
UID:2@fireguardians.de
DTSTART;TZID=Europe/Berlin:20240707T162500
DTEND;TZID=Europe/Berlin:20240707T190000
DTSTAMP:20240418T123317Z
URL:http://fireguardians.de/events/rhein-fire-cologne-centurions/
SUMMARY:Rhein Fire - Cologne Centurions
DESCRIPTION:Spiel in Duisburg\n\nSchauinsland-Reisen-Arena Duisburg
ATTACH;FMTTYPE=image/jpeg:http://fireguardians.de/wp-content/uploads/2017/
 06/CC.png
CATEGORIES:Rhein Fire Spiel
LOCATION:#_LOCATIONNAME\, #_LOCATIONFULLLINE\, #_LOCATIONCOUNTRY
X-APPLE-STRUCTURED-LOCATION;VALUE=URI;X-ADDRESS=#_LOCATIONFULLLINE\, #_LOCA
 TIONCOUNTRY;X-APPLE-RADIUS=100;X-TITLE=#_LOCATIONNAME:geo:0,0
END:VEVENT
BEGIN:VTIMEZONE
TZID:Europe/Berlin
X-LIC-LOCATION:Europe/Berlin
BEGIN:DAYLIGHT
DTSTART:20240331T030000
TZOFFSETFROM:+0100
TZOFFSETTO:+0200
TZNAME:CEST
END:DAYLIGHT
END:VTIMEZONE
END:VCALENDAR