BEGIN:VCALENDAR
VERSION:2.0
PRODID:-//wp-events-plugin.com//7.2.3.1//EN
TZID:Europe/Berlin
X-WR-TIMEZONE:Europe/Berlin
BEGIN:VEVENT
UID:11@fireguardians.de
DTSTART;TZID=Europe/Berlin;VALUE=DATE:20240629
DTEND;TZID=Europe/Berlin;VALUE=DATE:20240630
DTSTAMP:20240428T003427Z
URL:http://fireguardians.de/events/madrid-bravos-rhein-fire/
SUMMARY:Madrid Bravos - Rhein Fire
DESCRIPTION:
ATTACH;FMTTYPE=image/jpeg:http://fireguardians.de/wp-content/uploads/2017/
 06/MB.png
CATEGORIES:Rhein Fire Spiel
END:VEVENT
BEGIN:VTIMEZONE
TZID:Europe/Berlin
X-LIC-LOCATION:Europe/Berlin
BEGIN:DAYLIGHT
DTSTART:20240331T030000
TZOFFSETFROM:+0100
TZOFFSETTO:+0200
TZNAME:CEST
END:DAYLIGHT
END:VTIMEZONE
END:VCALENDAR