BEGIN:VCALENDAR
VERSION:2.0
PRODID:-//wp-events-plugin.com//7.2.3.1//EN
TZID:Europe/Berlin
X-WR-TIMEZONE:Europe/Berlin
BEGIN:VEVENT
UID:6@fireguardians.de
DTSTART;TZID=Europe/Berlin;VALUE=DATE:20240422
DTEND;TZID=Europe/Berlin;VALUE=DATE:20240423
DTSTAMP:20240422T090703Z
URL:http://fireguardians.de/events/jadrian-clark-geburtstag-30/
SUMMARY:Jadrian Clark Geburtstag (30)
DESCRIPTION:22.4.1994
ATTACH;FMTTYPE=image/jpeg:http://fireguardians.de/wp-content/uploads/2024/
 04/Capture-1.png
CATEGORIES:Rhein Fire Geburtstage
END:VEVENT
BEGIN:VTIMEZONE
TZID:Europe/Berlin
X-LIC-LOCATION:Europe/Berlin
BEGIN:DAYLIGHT
DTSTART:20240331T030000
TZOFFSETFROM:+0100
TZOFFSETTO:+0200
TZNAME:CEST
END:DAYLIGHT
END:VTIMEZONE
END:VCALENDAR