BEGIN:VCALENDAR
VERSION:2.0
PRODID:-//wp-events-plugin.com//7.2.3.1//EN
TZID:Europe/Berlin
X-WR-TIMEZONE:Europe/Berlin
BEGIN:VEVENT
UID:18@fireguardians.de
DTSTART;TZID=Europe/Berlin:20241012T120000
DTEND;TZID=Europe/Berlin:20241012T200000
DTSTAMP:20241005T043815Z
URL:http://fireguardians.de/events/gfl-bowl/
SUMMARY:GFL Bowl
DESCRIPTION:Der 45. deutsche Meister im American Football wird am 12. Oktob
 er 2024 im Stadion an der Hafenstraße in Essen gekürt. Ein Wochenende vo
 ller Football Action wird Fans aus ganz Europa zur Power Party auf dem Sta
 diongelände und zum ultimativen Duell der beiden Top-Teams der ERIMA GFL 
 nach Essen strömen lassen.
CATEGORIES:Sonstige Veranstaltungen
END:VEVENT
BEGIN:VTIMEZONE
TZID:Europe/Berlin
X-LIC-LOCATION:Europe/Berlin
BEGIN:DAYLIGHT
DTSTART:20240331T030000
TZOFFSETFROM:+0100
TZOFFSETTO:+0200
TZNAME:CEST
END:DAYLIGHT
END:VTIMEZONE
END:VCALENDAR