BEGIN:VCALENDAR
VERSION:2.0
PRODID:-//wp-events-plugin.com//7.2.3.1//EN
TZID:Europe/Berlin
X-WR-TIMEZONE:Europe/Berlin
BEGIN:VEVENT
UID:5@fireguardians.de
DTSTART;TZID=Europe/Berlin:20240602T162500
DTEND;TZID=Europe/Berlin:20240602T222500
DTSTAMP:20240418T122753Z
URL:http://fireguardians.de/events/frankfurt-galaxy-rhein-fire/
SUMMARY:Frankfurt Galaxy - Rhein Fire
DESCRIPTION:Stadion am Bieberer Berg - Offenbach
ATTACH;FMTTYPE=image/jpeg:http://fireguardians.de/wp-content/uploads/2017/
 06/FG.png
CATEGORIES:Rhein Fire Spiel
END:VEVENT
BEGIN:VTIMEZONE
TZID:Europe/Berlin
X-LIC-LOCATION:Europe/Berlin
BEGIN:DAYLIGHT
DTSTART:20240331T030000
TZOFFSETFROM:+0100
TZOFFSETTO:+0200
TZNAME:CEST
END:DAYLIGHT
END:VTIMEZONE
END:VCALENDAR