BEGIN:VCALENDAR
VERSION:2.0
PRODID:-//wp-events-plugin.com//7.2.3.1//EN
TZID:Europe/Berlin
X-WR-TIMEZONE:Europe/Berlin
BEGIN:VEVENT
UID:19@fireguardians.de
DTSTART;TZID=Europe/Berlin:20241026T150000
DTEND;TZID=Europe/Berlin:20241026T210000
DTSTAMP:20241005T044035Z
URL:http://fireguardians.de/events/deutschland-schweden/
SUMMARY:Deutschland - Schweden
DESCRIPTION:Deutschlands Herren Nationalmannschaft empfängt Schweden Zum w
 ichtigen Heimspiel ist am 26. Oktober 2024 die Nationalmannschaft Schweden
 s zu Gast in Krefeld. Gespielt wird im Grotenburg-Stadion\, der Spielstät
 te der Krefeld Ravens und der Fußballer des KFC Uerdingen.\n\nKickoff ist
  um 18:00 Uhr\, was für besonders faszinierende Flutlichtatmosphäre sorg
 en wird.
CATEGORIES:Sonstige Veranstaltungen
END:VEVENT
BEGIN:VTIMEZONE
TZID:Europe/Berlin
X-LIC-LOCATION:Europe/Berlin
BEGIN:DAYLIGHT
DTSTART:20240331T030000
TZOFFSETFROM:+0100
TZOFFSETTO:+0200
TZNAME:CEST
END:DAYLIGHT
END:VTIMEZONE
END:VCALENDAR