BEGIN:VCALENDAR
VERSION:2.0
PRODID:-//wp-events-plugin.com//7.2.3.1//EN
TZID:Europe/Berlin
X-WR-TIMEZONE:Europe/Berlin
BEGIN:VEVENT
UID:9@fireguardians.de
DTSTART;TZID=Europe/Berlin:20240428T100000
DTEND;TZID=Europe/Berlin:20240428T140000
DTSTAMP:20240422T180929Z
URL:http://fireguardians.de/events/1-oeffentliches-training/
SUMMARY:1. Öffentliches Training
DESCRIPTION:Merkur Spiel-Arena in Duisburg\n\n&nbsp\;
ATTACH;FMTTYPE=image/jpeg:http://fireguardians.de/wp-content/uploads/2024/
 04/DALL·E-2024-04-18-14.15.30-A-diverse-team-of-filmmakers-capturing-an-a
 dvertisement-featuring-the-Rhein-Fire-American-football-team-with-a-promin
 ent-sign-displaying-the-Rhein-F.webp
CATEGORIES:Sonstige Veranstaltungen
END:VEVENT
BEGIN:VTIMEZONE
TZID:Europe/Berlin
X-LIC-LOCATION:Europe/Berlin
BEGIN:DAYLIGHT
DTSTART:20240331T030000
TZOFFSETFROM:+0100
TZOFFSETTO:+0200
TZNAME:CEST
END:DAYLIGHT
END:VTIMEZONE
END:VCALENDAR